BEGIN:VCALENDAR
VERSION:2.0
PRODID:-//Rockingham Photography Club Inc. - ECPv6.15.20//NONSGML v1.0//EN
CALSCALE:GREGORIAN
METHOD:PUBLISH
X-ORIGINAL-URL:https://rockinghamphotographyclub.com
X-WR-CALDESC:Events for Rockingham Photography Club Inc.
REFRESH-INTERVAL;VALUE=DURATION:PT1H
X-Robots-Tag:noindex
X-PUBLISHED-TTL:PT1H
BEGIN:VTIMEZONE
TZID:Australia/Perth
BEGIN:STANDARD
TZOFFSETFROM:+0800
TZOFFSETTO:+0800
TZNAME:AWST
DTSTART:20250101T000000
END:STANDARD
END:VTIMEZONE
BEGIN:VEVENT
DTSTART;TZID=Australia/Perth:20260124T170000
DTEND;TZID=Australia/Perth:20260124T190000
DTSTAMP:20260423T145829
CREATED:20260112T123214Z
LAST-MODIFIED:20260112T123214Z
UID:13083-1769274000-1769281200@rockinghamphotographyclub.com
SUMMARY:Welcome to 2026 BBQ
DESCRIPTION:New Year\, same great club! \nLet’s get together for a BBQ to celebrate the start of the year. 🍔 \nMake sure your pockets are heavy with loose change because you won’t want to miss out on the raffle! \n 
URL:https://rockinghamphotographyclub.com/event/welcome-to-2026-bbq/
LOCATION:Governor Rd Reserve\, PPQW+MV East Rockingham\, Western Australia
CATEGORIES:Event,Public
ATTACH;FMTTYPE=image/gif:https://rockinghamphotographyclub.com/wp-content/uploads/2021/12/Bbq-clipart-border-free-clipart-images.gif
ORGANIZER;CN="Iain Riley":MAILTO:iain.riley.rpc@gmail.com
END:VEVENT
END:VCALENDAR