BEGIN:VCALENDAR
VERSION:2.0
PRODID:-//Rockingham Photography Club Inc. - ECPv6.15.20//NONSGML v1.0//EN
CALSCALE:GREGORIAN
METHOD:PUBLISH
X-ORIGINAL-URL:https://rockinghamphotographyclub.com
X-WR-CALDESC:Events for Rockingham Photography Club Inc.
REFRESH-INTERVAL;VALUE=DURATION:PT1H
X-Robots-Tag:noindex
X-PUBLISHED-TTL:PT1H
BEGIN:VTIMEZONE
TZID:Australia/Perth
BEGIN:STANDARD
TZOFFSETFROM:+0800
TZOFFSETTO:+0800
TZNAME:AWST
DTSTART:20240101T000000
END:STANDARD
END:VTIMEZONE
BEGIN:VEVENT
DTSTART;TZID=Australia/Perth:20251209T190000
DTEND;TZID=Australia/Perth:20251209T210000
DTSTAMP:20260423T193255
CREATED:20250427T010436Z
LAST-MODIFIED:20250427T010512Z
UID:11649-1765306800-1765314000@rockinghamphotographyclub.com
SUMMARY:December 2025 Club Meeting
DESCRIPTION:The Rockingham Photography Club meet on the second Tuesday of the month. \nThe December meeting is combined with an end of year event and photo competition.
URL:https://rockinghamphotographyclub.com/event/december-2025-club-meeting/
LOCATION:Warnbro Community & Family Centre\, 1 Moreton Cres\, Warnbro\, WA\, 6169\, Australia
CATEGORIES:Club Meeting
ATTACH;FMTTYPE=image/png:https://rockinghamphotographyclub.com/wp-content/uploads/2024/01/Club-Meeting-Warnbro-Family-Centre.png
ORGANIZER;CN="RPC Secretary":MAILTO:secretary@rockinghamphotographyclub.com
END:VEVENT
END:VCALENDAR