BEGIN:VCALENDAR
VERSION:2.0
PRODID:-//Rockingham Photography Club Inc. - ECPv6.15.20//NONSGML v1.0//EN
CALSCALE:GREGORIAN
METHOD:PUBLISH
X-ORIGINAL-URL:https://rockinghamphotographyclub.com
X-WR-CALDESC:Events for Rockingham Photography Club Inc.
REFRESH-INTERVAL;VALUE=DURATION:PT1H
X-Robots-Tag:noindex
X-PUBLISHED-TTL:PT1H
BEGIN:VTIMEZONE
TZID:Australia/Perth
BEGIN:STANDARD
TZOFFSETFROM:+0800
TZOFFSETTO:+0800
TZNAME:AWST
DTSTART:20250101T000000
END:STANDARD
END:VTIMEZONE
BEGIN:VEVENT
DTSTART;VALUE=DATE:20260113
DTEND;VALUE=DATE:20260114
DTSTAMP:20260423T181427
CREATED:20260112T123627Z
LAST-MODIFIED:20260112T123627Z
UID:13088-1768262400-1768348799@rockinghamphotographyclub.com
SUMMARY:January 2026 Monthly Image
DESCRIPTION:January:My Go-To Lens\nThis month\, we challenge you to simplify your gear and focus on your vision. Choose one specific lens (e.g.\, a 50mm prime or your standard kit lens set to a single focal length) and use it exclusively for your entries.
URL:https://rockinghamphotographyclub.com/event/january-2026-monthly-image/
CATEGORIES:Monthly Image
END:VEVENT
END:VCALENDAR