BEGIN:VCALENDAR
VERSION:2.0
PRODID:-//Rockingham Photography Club Inc. - ECPv6.15.20//NONSGML v1.0//EN
CALSCALE:GREGORIAN
METHOD:PUBLISH
X-WR-CALNAME:Rockingham Photography Club Inc.
X-ORIGINAL-URL:https://rockinghamphotographyclub.com
X-WR-CALDESC:Events for Rockingham Photography Club Inc.
REFRESH-INTERVAL;VALUE=DURATION:PT1H
X-Robots-Tag:noindex
X-PUBLISHED-TTL:PT1H
BEGIN:VTIMEZONE
TZID:Australia/Perth
BEGIN:STANDARD
TZOFFSETFROM:+0800
TZOFFSETTO:+0800
TZNAME:AWST
DTSTART:20240101T000000
END:STANDARD
END:VTIMEZONE
BEGIN:VEVENT
DTSTART;TZID=Australia/Perth:20251111T190000
DTEND;TZID=Australia/Perth:20251111T210000
DTSTAMP:20260423T192458
CREATED:20250427T010324Z
LAST-MODIFIED:20250427T010324Z
UID:11647-1762887600-1762894800@rockinghamphotographyclub.com
SUMMARY:November 2025 Club Meeting
DESCRIPTION:The Rockingham Photography Club meet on the second Tuesday of the month.
URL:https://rockinghamphotographyclub.com/event/november-2025-club-meeting/
LOCATION:Warnbro Community & Family Centre\, 1 Moreton Cres\, Warnbro\, WA\, 6169\, Australia
CATEGORIES:Club Meeting
ATTACH;FMTTYPE=image/png:https://rockinghamphotographyclub.com/wp-content/uploads/2024/01/Club-Meeting-Warnbro-Family-Centre.png
ORGANIZER;CN="RPC Secretary":MAILTO:secretary@rockinghamphotographyclub.com
END:VEVENT
BEGIN:VEVENT
DTSTART;VALUE=DATE:20251104
DTEND;VALUE=DATE:20251105
DTSTAMP:20260423T192458
CREATED:20250427T005157Z
LAST-MODIFIED:20250427T005157Z
UID:11628-1762214400-1762300799@rockinghamphotographyclub.com
SUMMARY:November 2025 Monthly Image
DESCRIPTION:Theme – Reflection
URL:https://rockinghamphotographyclub.com/event/november-2025-monthly-image/
CATEGORIES:Monthly Image
END:VEVENT
BEGIN:VEVENT
DTSTART;TZID=Australia/Perth:20251025T170000
DTEND;TZID=Australia/Perth:20251025T193000
DTSTAMP:20260423T192458
CREATED:20251014T085744Z
LAST-MODIFIED:20251021T114557Z
UID:12907-1761411600-1761420600@rockinghamphotographyclub.com
SUMMARY:Reflections Photowalk
DESCRIPTION:Meet at the Elizabeth Quay – at Spanda (The Egg Beater)
URL:https://rockinghamphotographyclub.com/event/reflections-photowalk/
LOCATION:Brookfield Place\, Brookfield Place\, Perth\, WA\, 6000\, Australia
CATEGORIES:Event,Traning
ATTACH;FMTTYPE=image/jpeg:https://rockinghamphotographyclub.com/wp-content/uploads/2025/10/lets-talk-about-reflections.jpg
END:VEVENT
BEGIN:VEVENT
DTSTART;TZID=Australia/Perth:20251021T190000
DTEND;TZID=Australia/Perth:20251021T200000
DTSTAMP:20260423T192458
CREATED:20251014T085525Z
LAST-MODIFIED:20251014T085525Z
UID:12903-1761073200-1761076800@rockinghamphotographyclub.com
SUMMARY:Let's talk about Reflections
DESCRIPTION:Reflections are everywhere\, in puddles\, windows\, and even the unexpected!\n\nJoin our online session for creative tips\, shooting ideas\, and details about our City Reflections Walk.\n\nDiscover how to see the world twice through your lens
URL:https://rockinghamphotographyclub.com/event/lets-talk-about-reflections/
LOCATION:Online
CATEGORIES:Traning
ATTACH;FMTTYPE=image/jpeg:https://rockinghamphotographyclub.com/wp-content/uploads/2025/10/lets-talk-about-reflections.jpg
END:VEVENT
BEGIN:VEVENT
DTSTART;TZID=Australia/Perth:20251014T190000
DTEND;TZID=Australia/Perth:20251014T210000
DTSTAMP:20260423T192458
CREATED:20250427T010236Z
LAST-MODIFIED:20250427T010236Z
UID:11645-1760468400-1760475600@rockinghamphotographyclub.com
SUMMARY:October 2025 Club Meeting
DESCRIPTION:The Rockingham Photography Club meet on the second Tuesday of the month.
URL:https://rockinghamphotographyclub.com/event/october-2025-club-meeting/
LOCATION:Warnbro Community & Family Centre\, 1 Moreton Cres\, Warnbro\, WA\, 6169\, Australia
CATEGORIES:Club Meeting
ATTACH;FMTTYPE=image/png:https://rockinghamphotographyclub.com/wp-content/uploads/2024/01/Club-Meeting-Warnbro-Family-Centre.png
ORGANIZER;CN="RPC Secretary":MAILTO:secretary@rockinghamphotographyclub.com
END:VEVENT
BEGIN:VEVENT
DTSTART;VALUE=DATE:20251007
DTEND;VALUE=DATE:20251008
DTSTAMP:20260423T192458
CREATED:20250427T005059Z
LAST-MODIFIED:20250427T005059Z
UID:11626-1759795200-1759881599@rockinghamphotographyclub.com
SUMMARY:October 2025 Monthly Image
DESCRIPTION:Theme – Close Up or Macro
URL:https://rockinghamphotographyclub.com/event/october-2025-monthly-image/
CATEGORIES:Monthly Image
END:VEVENT
BEGIN:VEVENT
DTSTART;VALUE=DATE:20250919
DTEND;VALUE=DATE:20250922
DTSTAMP:20260423T192458
CREATED:20250427T005602Z
LAST-MODIFIED:20250427T005602Z
UID:11632-1758240000-1758499199@rockinghamphotographyclub.com
SUMMARY:PhotoWest 2025
DESCRIPTION:The Bunbury Club is hosting the 2025 PhotoWest Event
URL:https://rockinghamphotographyclub.com/event/photowest-2025/
CATEGORIES:Event
ATTACH;FMTTYPE=image/png:https://rockinghamphotographyclub.com/wp-content/uploads/2025/04/Flyer-PhotoWest-2025-Sept-724x1024-1.png
END:VEVENT
BEGIN:VEVENT
DTSTART;TZID=Australia/Perth:20250916T190000
DTEND;TZID=Australia/Perth:20250916T200000
DTSTAMP:20260423T192458
CREATED:20250913T003940Z
LAST-MODIFIED:20250913T011657Z
UID:12720-1758049200-1758052800@rockinghamphotographyclub.com
SUMMARY:Let's talk macro and close up photography!
DESCRIPTION:Join us for an online training session dedicated to the captivating world of macro photography. We’ll explore what distinguishes macro from close-up photography and share techniques for capturing the tiny\, intricate details that often go unnoticed. \nSession Outline: \n\nWe will begin by watching a short\, inspirational video together.\nThe floor will then open for a group discussion\, collaborative tips\, and a Q&A session.\n\nWho Should Attend? This session is perfect for everyone\, from photographers brand new to macro to those already experimenting with insects\, flowers\, or abstract textures. It’s a fantastic opportunity to gain inspiration and sharpen your skills ahead of this month’s competition theme. \nEvent Details: \n\nDate: 16th September 2025\nTime: 7pm\nLocation: Online via Zoom. The meeting link will be emailed to participants on the morning of the event.
URL:https://rockinghamphotographyclub.com/event/lets-talk-macro-and-close-up-photography/
LOCATION:Online
CATEGORIES:Traning
ATTACH;FMTTYPE=image/jpeg:https://rockinghamphotographyclub.com/wp-content/uploads/2025/09/540848298_10161275865337511_1071728989833059374_n.jpg
END:VEVENT
BEGIN:VEVENT
DTSTART;TZID=Australia/Perth:20250909T190000
DTEND;TZID=Australia/Perth:20250909T210000
DTSTAMP:20260423T192458
CREATED:20250427T010151Z
LAST-MODIFIED:20250427T010151Z
UID:11643-1757444400-1757451600@rockinghamphotographyclub.com
SUMMARY:September 2025 Club Meeting
DESCRIPTION:The Rockingham Photography Club meet on the second Tuesday of the month.
URL:https://rockinghamphotographyclub.com/event/september-2025-club-meeting/
LOCATION:Warnbro Community & Family Centre\, 1 Moreton Cres\, Warnbro\, WA\, 6169\, Australia
CATEGORIES:Club Meeting
ATTACH;FMTTYPE=image/png:https://rockinghamphotographyclub.com/wp-content/uploads/2024/01/Club-Meeting-Warnbro-Family-Centre.png
ORGANIZER;CN="RPC Secretary":MAILTO:secretary@rockinghamphotographyclub.com
END:VEVENT
BEGIN:VEVENT
DTSTART;VALUE=DATE:20250902
DTEND;VALUE=DATE:20250903
DTSTAMP:20260423T192458
CREATED:20250427T004831Z
LAST-MODIFIED:20250427T004831Z
UID:11624-1756771200-1756857599@rockinghamphotographyclub.com
SUMMARY:September 2025 Monthly Image
DESCRIPTION:Theme – Natural World. This is a print month.
URL:https://rockinghamphotographyclub.com/event/september-2025-monthly-image/
CATEGORIES:Monthly Image
END:VEVENT
BEGIN:VEVENT
DTSTART;TZID=Australia/Perth:20250831T100000
DTEND;TZID=Australia/Perth:20250831T120000
DTSTAMP:20260423T192458
CREATED:20250817T152846Z
LAST-MODIFIED:20250817T152846Z
UID:12483-1756634400-1756641600@rockinghamphotographyclub.com
SUMMARY:Don Shepherd Nature Walk - Karnup
DESCRIPTION:Join us for a beautiful morning walk through the Don Shepherd Nature Walk. \nAs a double win\, you can find images to suit both this months theme\, Natural World and/or next months theme\, Close Up or Macro. \nMeeting point is the carpark across the road from the nature walk entrance. \nhttps://maps.app.goo.gl/pHvaKmV2atcoXTyd6\nCome prepared for the weather of the day. \nBring hat\, water bottle\, something to snack on if you need it\, and remember to leave nothing but footprints and only take away great images!
URL:https://rockinghamphotographyclub.com/event/don-shepherd-nature-walk-karnup/
LOCATION:Don Shepherd Nature Reserve Trail\, 19 Karnup Rd\, Baldivis WA 6171\, Australia
CATEGORIES:Event
ATTACH;FMTTYPE=image/png:https://rockinghamphotographyclub.com/wp-content/uploads/2023/09/orchid-photo.png
END:VEVENT
BEGIN:VEVENT
DTSTART;TZID=Australia/Perth:20250820T190000
DTEND;TZID=Australia/Perth:20250820T200000
DTSTAMP:20260423T192458
CREATED:20250817T152147Z
LAST-MODIFIED:20250817T153242Z
UID:12475-1755716400-1755720000@rockinghamphotographyclub.com
SUMMARY:Editing your images for print
DESCRIPTION:With this months theme having a print component\, we are doing an online training on “Editing Your Images for Print”. \nGoal: Get your photo looking as good on paper as it does on screen. \nDemo will be in Lightroom Classic\n\nSet Up Your File\nEditing Adjustments\nSoft Proofing\nExport for Printing\nPro Tips\nSending to online printer
URL:https://rockinghamphotographyclub.com/event/editing-your-images-for-print/
LOCATION:Online
CATEGORIES:Traning
ATTACH;FMTTYPE=image/jpeg:https://rockinghamphotographyclub.com/wp-content/uploads/2025/08/Editing-for-Print.jpg
END:VEVENT
BEGIN:VEVENT
DTSTART;TZID=Australia/Perth:20250812T190000
DTEND;TZID=Australia/Perth:20250812T210000
DTSTAMP:20260423T192458
CREATED:20250427T010046Z
LAST-MODIFIED:20250427T010046Z
UID:11641-1755025200-1755032400@rockinghamphotographyclub.com
SUMMARY:August 2025 Club Meeting
DESCRIPTION:The Rockingham Photography Club meet on the second Tuesday of the month.
URL:https://rockinghamphotographyclub.com/event/august-2025-club-meeting/
LOCATION:Warnbro Community & Family Centre\, 1 Moreton Cres\, Warnbro\, WA\, 6169\, Australia
CATEGORIES:Club Meeting
ATTACH;FMTTYPE=image/png:https://rockinghamphotographyclub.com/wp-content/uploads/2024/01/Club-Meeting-Warnbro-Family-Centre.png
ORGANIZER;CN="RPC Secretary":MAILTO:secretary@rockinghamphotographyclub.com
END:VEVENT
BEGIN:VEVENT
DTSTART;VALUE=DATE:20250805
DTEND;VALUE=DATE:20250806
DTSTAMP:20260423T192458
CREATED:20250427T004728Z
LAST-MODIFIED:20250427T004922Z
UID:11622-1754352000-1754438399@rockinghamphotographyclub.com
SUMMARY:August 2025 Monthly Image
DESCRIPTION:Theme – Yellow
URL:https://rockinghamphotographyclub.com/event/august-2025-monthly-image/
CATEGORIES:Monthly Image
END:VEVENT
BEGIN:VEVENT
DTSTART;TZID=Australia/Perth:20250708T190000
DTEND;TZID=Australia/Perth:20250708T210000
DTSTAMP:20260423T192458
CREATED:20250427T005957Z
LAST-MODIFIED:20250427T005957Z
UID:11639-1752001200-1752008400@rockinghamphotographyclub.com
SUMMARY:July 2025 Club Meeting
DESCRIPTION:The Rockingham Photography Club meet on the second Tuesday of the month.
URL:https://rockinghamphotographyclub.com/event/july-2025-club-meeting/
LOCATION:Warnbro Community & Family Centre\, 1 Moreton Cres\, Warnbro\, WA\, 6169\, Australia
CATEGORIES:Club Meeting
ATTACH;FMTTYPE=image/png:https://rockinghamphotographyclub.com/wp-content/uploads/2024/01/Club-Meeting-Warnbro-Family-Centre.png
ORGANIZER;CN="RPC Secretary":MAILTO:secretary@rockinghamphotographyclub.com
END:VEVENT
BEGIN:VEVENT
DTSTART;VALUE=DATE:20250701
DTEND;VALUE=DATE:20250702
DTSTAMP:20260423T192458
CREATED:20250427T004652Z
LAST-MODIFIED:20250427T004856Z
UID:11620-1751328000-1751414399@rockinghamphotographyclub.com
SUMMARY:July 2025 Monthly Image
DESCRIPTION:Theme – Sports/Games
URL:https://rockinghamphotographyclub.com/event/july-2025-monthly-image/
CATEGORIES:Monthly Image
END:VEVENT
BEGIN:VEVENT
DTSTART;TZID=Australia/Perth:20250622T103000
DTEND;TZID=Australia/Perth:20250622T130000
DTSTAMP:20260423T192458
CREATED:20250614T023508Z
LAST-MODIFIED:20250614T023730Z
UID:11954-1750588200-1750597200@rockinghamphotographyclub.com
SUMMARY:Guildford Sunday Morning Stroll
DESCRIPTION:The RPC is hosting a photowalk around the historic town of Guildford. \n\nSunday 22nd June\nMeeting at 10:30am\n\nWhat to bring: \n\nYour camera\nSpare batteries\nMemory cards\nWalking shoes
URL:https://rockinghamphotographyclub.com/event/guildford-sunday-morning-stroll/
LOCATION:Swan Valley Visitor Centre\, Swan Valley Visitors Centre\, Guildford\, WA\, Australia
CATEGORIES:Event,Public
ATTACH;FMTTYPE=image/jpeg:https://rockinghamphotographyclub.com/wp-content/uploads/2025/06/040A0993.jpg
ORGANIZER;CN="Daniel Messom":MAILTO:president@rockinghamphotographyclub.com
END:VEVENT
BEGIN:VEVENT
DTSTART;TZID=Australia/Perth:20250610T190000
DTEND;TZID=Australia/Perth:20250610T210000
DTSTAMP:20260423T192458
CREATED:20250427T005908Z
LAST-MODIFIED:20250427T005908Z
UID:11637-1749582000-1749589200@rockinghamphotographyclub.com
SUMMARY:June 2025 Club Meeting
DESCRIPTION:The Rockingham Photography Club meet on the second Tuesday of the month.
URL:https://rockinghamphotographyclub.com/event/june-2025-club-meeting/
LOCATION:Warnbro Community & Family Centre\, 1 Moreton Cres\, Warnbro\, WA\, 6169\, Australia
CATEGORIES:Club Meeting
ATTACH;FMTTYPE=image/png:https://rockinghamphotographyclub.com/wp-content/uploads/2024/01/Club-Meeting-Warnbro-Family-Centre.png
ORGANIZER;CN="RPC Secretary":MAILTO:secretary@rockinghamphotographyclub.com
END:VEVENT
BEGIN:VEVENT
DTSTART;VALUE=DATE:20250603
DTEND;VALUE=DATE:20250604
DTSTAMP:20260423T192458
CREATED:20250427T004536Z
LAST-MODIFIED:20250427T004536Z
UID:11618-1748908800-1748995199@rockinghamphotographyclub.com
SUMMARY:June 2025 Monthly Image
DESCRIPTION:Theme – Solitude. Must be a mono image.
URL:https://rockinghamphotographyclub.com/event/june-2025-monthly-image/
CATEGORIES:Monthly Image
END:VEVENT
BEGIN:VEVENT
DTSTART;TZID=Australia/Perth:20250513T190000
DTEND;TZID=Australia/Perth:20250513T210000
DTSTAMP:20260423T192458
CREATED:20250427T005807Z
LAST-MODIFIED:20250427T005807Z
UID:11635-1747162800-1747170000@rockinghamphotographyclub.com
SUMMARY:May 2025 Club Meeting
DESCRIPTION:The Rockingham Photography Club meet on the second Tuesday of the month.
URL:https://rockinghamphotographyclub.com/event/may-2025-club-meeting/
LOCATION:Warnbro Community & Family Centre\, 1 Moreton Cres\, Warnbro\, WA\, 6169\, Australia
CATEGORIES:Club Meeting
ATTACH;FMTTYPE=image/png:https://rockinghamphotographyclub.com/wp-content/uploads/2024/01/Club-Meeting-Warnbro-Family-Centre.png
ORGANIZER;CN="RPC Secretary":MAILTO:secretary@rockinghamphotographyclub.com
END:VEVENT
BEGIN:VEVENT
DTSTART;VALUE=DATE:20250506
DTEND;VALUE=DATE:20250507
DTSTAMP:20260423T192458
CREATED:20250427T004415Z
LAST-MODIFIED:20250427T004415Z
UID:11616-1746489600-1746575999@rockinghamphotographyclub.com
SUMMARY:May 2025 Monthly Image
DESCRIPTION:Theme – Repetition
URL:https://rockinghamphotographyclub.com/event/may-2025-monthly-image/
CATEGORIES:Monthly Image
END:VEVENT
BEGIN:VEVENT
DTSTART;TZID=Australia/Perth:20250427T103000
DTEND;TZID=Australia/Perth:20250427T130000
DTSTAMP:20260423T192458
CREATED:20250408T101219Z
LAST-MODIFIED:20250408T101219Z
UID:11532-1745749800-1745758800@rockinghamphotographyclub.com
SUMMARY:Perth City Walk
DESCRIPTION:The RPC committee are hosting a city walk on the 27th April. \nThere are a number of upcoming topics that can be covered during this photowalk\, including: \n\nRepetition\nReflections\nSolitude\n\n 
URL:https://rockinghamphotographyclub.com/event/perth-city-walk-2/
LOCATION:The Art Gallery of Western Australia\, The Art Gallery of Western Australia\, Perth\, wa\, 6000\, Australia
CATEGORIES:Event
ATTACH;FMTTYPE=image/png:https://rockinghamphotographyclub.com/wp-content/uploads/2025/04/Screenshot-2025-04-08-181017.png
END:VEVENT
BEGIN:VEVENT
DTSTART;TZID=Australia/Perth:20250408T190000
DTEND;TZID=Australia/Perth:20250408T210000
DTSTAMP:20260423T192458
CREATED:20250331T110133Z
LAST-MODIFIED:20250331T113559Z
UID:11505-1744138800-1744146000@rockinghamphotographyclub.com
SUMMARY:April 2025 Club Meeting & AGM
DESCRIPTION:The Rockingham Photography Club meet on the second Tuesday of the month.
URL:https://rockinghamphotographyclub.com/event/april-2025-club-meeting-agm/
LOCATION:Warnbro Community & Family Centre\, 1 Moreton Cres\, Warnbro\, WA\, 6169\, Australia
CATEGORIES:Club Meeting
ATTACH;FMTTYPE=image/png:https://rockinghamphotographyclub.com/wp-content/uploads/2025/03/AGM-Warnbro-Family-Centre.png
END:VEVENT
BEGIN:VEVENT
DTSTART;TZID=Australia/Perth:20250326T190000
DTEND;TZID=Australia/Perth:20250326T203000
DTSTAMP:20260423T192458
CREATED:20250203T110707Z
LAST-MODIFIED:20250311T030305Z
UID:11246-1743015600-1743021000@rockinghamphotographyclub.com
SUMMARY:Lightroom Catalogue Training
DESCRIPTION:Iain will host a training night on how to use the lightroom classic catalogue. \nThis will be hosted online.
URL:https://rockinghamphotographyclub.com/event/lightroom-catalogue-training/
CATEGORIES:Traning
ATTACH;FMTTYPE=image/png:https://rockinghamphotographyclub.com/wp-content/uploads/2025/02/LrC.png
END:VEVENT
BEGIN:VEVENT
DTSTART;TZID=Australia/Perth:20250323T170000
DTEND;TZID=Australia/Perth:20250323T190000
DTSTAMP:20260423T192458
CREATED:20250311T100833Z
LAST-MODIFIED:20250311T101132Z
UID:11358-1742749200-1742756400@rockinghamphotographyclub.com
SUMMARY:Mandurah Photo Walk
DESCRIPTION:Come for a quiet walk around the Mandurah Foreshore Area. \nOpportunities for images cover – Reflections\, Solitude\, Repetition and Contemplation. \nWhat to bring: \n\nYour camera\nSpare memory Card\nSpare Batteries\nComfortable shoes for walking\n\nThere are plenty of places to eat – so I expect a group will gather for dinner.
URL:https://rockinghamphotographyclub.com/event/mandurah-photo-walk/
LOCATION:Mandurah Circular Pool\, Kwillena Gabi Pool\, Mandurah\, WA\, 6210\, Australia
CATEGORIES:Event
ATTACH;FMTTYPE=image/png:https://rockinghamphotographyclub.com/wp-content/uploads/2025/03/Mandurah.png
END:VEVENT
BEGIN:VEVENT
DTSTART;TZID=Australia/Perth:20250311T190000
DTEND;TZID=Australia/Perth:20250311T210000
DTSTAMP:20260423T192458
CREATED:20241229T092128Z
LAST-MODIFIED:20241229T092128Z
UID:11089-1741719600-1741726800@rockinghamphotographyclub.com
SUMMARY:March 2025 Club Meeting
DESCRIPTION:The Rockingham Photography Club meet on the second Tuesday of the month.
URL:https://rockinghamphotographyclub.com/event/march-2025-club-meeting/
LOCATION:Warnbro Community & Family Centre\, 1 Moreton Cres\, Warnbro\, WA\, 6169\, Australia
CATEGORIES:Club Meeting
ATTACH;FMTTYPE=image/png:https://rockinghamphotographyclub.com/wp-content/uploads/2024/01/Club-Meeting-Warnbro-Family-Centre.png
ORGANIZER;CN="RPC Secretary":MAILTO:secretary@rockinghamphotographyclub.com
END:VEVENT
BEGIN:VEVENT
DTSTART;VALUE=DATE:20250304
DTEND;VALUE=DATE:20250305
DTSTAMP:20260423T192458
CREATED:20241229T090923Z
LAST-MODIFIED:20241229T090923Z
UID:11081-1741046400-1741132799@rockinghamphotographyclub.com
SUMMARY:March 2025 Monthly Image
DESCRIPTION:Theme – Old Stuff
URL:https://rockinghamphotographyclub.com/event/march-2025-monthly-image/
CATEGORIES:Monthly Image
END:VEVENT
BEGIN:VEVENT
DTSTART;TZID=Australia/Perth:20250223T103000
DTEND;TZID=Australia/Perth:20250223T140000
DTSTAMP:20260423T192458
CREATED:20250210T152004Z
LAST-MODIFIED:20250210T152004Z
UID:11266-1740306600-1740319200@rockinghamphotographyclub.com
SUMMARY:Whiteman Park Visit
DESCRIPTION:Come and join the Rockingham Photography Club on an outing to Whiteman Park. \n\nBring your camera\,\ncharged battery\,\nmemory card\,\ntripod/monopod if desired\,\nhat\,\nsunscreen\,\ndrink\,\npicnic or BBQ (BBQs available at $1.00 (coin operated) or buy from the kiosk/café.\n\nShuttle Bus runs from Whiteman Park Train Station to Whiteman Village on weekends \nMeeting location – Car Park 9
URL:https://rockinghamphotographyclub.com/event/whiteman-park-visit/
LOCATION:Whiteman Park\, Whiteman Drive East\, Whiteman\, 6068\, Australia
CATEGORIES:Event
ATTACH;FMTTYPE=image/png:https://rockinghamphotographyclub.com/wp-content/uploads/2025/02/whiteman-park.png
END:VEVENT
BEGIN:VEVENT
DTSTART;TZID=Australia/Perth:20250211T190000
DTEND;TZID=Australia/Perth:20250211T210000
DTSTAMP:20260423T192458
CREATED:20241229T092000Z
LAST-MODIFIED:20241229T092044Z
UID:11087-1739300400-1739307600@rockinghamphotographyclub.com
SUMMARY:February 2025 Club Meeting
DESCRIPTION:The Rockingham Photography Club meet on the second Tuesday of the month.
URL:https://rockinghamphotographyclub.com/event/february-2025-club-meeting/
LOCATION:Warnbro Community & Family Centre\, 1 Moreton Cres\, Warnbro\, WA\, 6169\, Australia
CATEGORIES:Club Meeting
ATTACH;FMTTYPE=image/png:https://rockinghamphotographyclub.com/wp-content/uploads/2024/01/Club-Meeting-Warnbro-Family-Centre.png
ORGANIZER;CN="RPC Secretary":MAILTO:secretary@rockinghamphotographyclub.com
END:VEVENT
BEGIN:VEVENT
DTSTART;VALUE=DATE:20250204
DTEND;VALUE=DATE:20250205
DTSTAMP:20260423T192458
CREATED:20241229T090842Z
LAST-MODIFIED:20241229T090842Z
UID:11079-1738627200-1738713599@rockinghamphotographyclub.com
SUMMARY:February 2025 Monthly Image
DESCRIPTION:Theme – Portraits
URL:https://rockinghamphotographyclub.com/event/february-2025-monthly-image/
CATEGORIES:Monthly Image
END:VEVENT
END:VCALENDAR