BEGIN:VCALENDAR
VERSION:2.0
PRODID:-//Rockingham Photography Club Inc. - ECPv6.15.20//NONSGML v1.0//EN
CALSCALE:GREGORIAN
METHOD:PUBLISH
X-ORIGINAL-URL:https://rockinghamphotographyclub.com
X-WR-CALDESC:Events for Rockingham Photography Club Inc.
REFRESH-INTERVAL;VALUE=DURATION:PT1H
X-Robots-Tag:noindex
X-PUBLISHED-TTL:PT1H
BEGIN:VTIMEZONE
TZID:Australia/Perth
BEGIN:STANDARD
TZOFFSETFROM:+0800
TZOFFSETTO:+0800
TZNAME:AWST
DTSTART:20230101T000000
END:STANDARD
END:VTIMEZONE
BEGIN:VEVENT
DTSTART;TZID=Australia/Perth:20241112T190000
DTEND;TZID=Australia/Perth:20241112T190000
DTSTAMP:20260423T151803
CREATED:20240910T100922Z
LAST-MODIFIED:20240910T100922Z
UID:10719-1731438000-1731438000@rockinghamphotographyclub.com
SUMMARY:November 2024 Club Meeting
DESCRIPTION:The Rockingham Photography Club meet on the second Tuesday of the month.
URL:https://rockinghamphotographyclub.com/event/november-2024-club-meeting/
LOCATION:Warnbro Community & Family Centre\, 1 Moreton Cres\, Warnbro\, WA\, 6169\, Australia
CATEGORIES:Club Meeting
ATTACH;FMTTYPE=image/png:https://rockinghamphotographyclub.com/wp-content/uploads/2024/01/Club-Meeting-Warnbro-Family-Centre.png
ORGANIZER;CN="RPC Secretary":MAILTO:secretary@rockinghamphotographyclub.com
END:VEVENT
BEGIN:VEVENT
DTSTART;VALUE=DATE:20241105
DTEND;VALUE=DATE:20241106
DTSTAMP:20260423T151803
CREATED:20240126T042103Z
LAST-MODIFIED:20240126T042103Z
UID:10027-1730764800-1730851199@rockinghamphotographyclub.com
SUMMARY:November 2024 Monthly Image
DESCRIPTION:Theme: Night Photography
URL:https://rockinghamphotographyclub.com/event/november-2024-monthly-image/
LOCATION:Wa
END:VEVENT
BEGIN:VEVENT
DTSTART;TZID=Australia/Perth:20241026T103000
DTEND;TZID=Australia/Perth:20241026T133000
DTSTAMP:20260423T151803
CREATED:20241013T122150Z
LAST-MODIFIED:20241015T042738Z
UID:10824-1729938600-1729949400@rockinghamphotographyclub.com
SUMMARY:Peel / Redzz Zoo Outing
DESCRIPTION:The RPC will be visiting the Peel / Redzz Zoo. \nTickets are $23 per person for adults. \nLunch details to be confirmed. \nImages may be used for club competitions.
URL:https://rockinghamphotographyclub.com/event/peel-zoo-outing/
LOCATION:Peel Zoo\, Sanctuary Dr\, Pinjarra\, Wa\, 6208\, Australia
CATEGORIES:Event
ORGANIZER;CN="Iain Riley":MAILTO:iain.riley.rpc@gmail.com
END:VEVENT
BEGIN:VEVENT
DTSTART;TZID=Australia/Perth:20241008T190000
DTEND;TZID=Australia/Perth:20241008T210000
DTSTAMP:20260423T151803
CREATED:20240910T100817Z
LAST-MODIFIED:20240910T100817Z
UID:10717-1728414000-1728421200@rockinghamphotographyclub.com
SUMMARY:October 2024 Club Meeting
DESCRIPTION:The Rockingham Photography Club meet on the second Tuesday of the month.
URL:https://rockinghamphotographyclub.com/event/october-2024-club-meeting/
LOCATION:Warnbro Community & Family Centre\, 1 Moreton Cres\, Warnbro\, WA\, 6169\, Australia
CATEGORIES:Club Meeting
ATTACH;FMTTYPE=image/png:https://rockinghamphotographyclub.com/wp-content/uploads/2024/01/Club-Meeting-Warnbro-Family-Centre.png
ORGANIZER;CN="RPC Secretary":MAILTO:secretary@rockinghamphotographyclub.com
END:VEVENT
BEGIN:VEVENT
DTSTART;TZID=Australia/Perth:20241005T193000
DTEND;TZID=Australia/Perth:20241005T213000
DTSTAMP:20260423T151803
CREATED:20240304T111718Z
LAST-MODIFIED:20240910T102819Z
UID:10211-1728156600-1728163800@rockinghamphotographyclub.com
SUMMARY:Astrophotography Workshop
DESCRIPTION:Astro photography workshop.
URL:https://rockinghamphotographyclub.com/event/astrophotography-workshop/
LOCATION:Point Peron\, Point Peron Rd\, Point Peron\, WA\, 6169\, Australia
CATEGORIES:Event
ATTACH;FMTTYPE=image/png:https://rockinghamphotographyclub.com/wp-content/uploads/2024/03/Astro-Workshop.png
ORGANIZER;CN="Iain Riley":MAILTO:iain.riley.rpc@gmail.com
END:VEVENT
BEGIN:VEVENT
DTSTART;VALUE=DATE:20241001
DTEND;VALUE=DATE:20241002
DTSTAMP:20260423T151803
CREATED:20240126T042028Z
LAST-MODIFIED:20240126T042028Z
UID:10025-1727740800-1727827199@rockinghamphotographyclub.com
SUMMARY:October 2024 Monthly Image
DESCRIPTION:Theme Halloween
URL:https://rockinghamphotographyclub.com/event/october-2024-monthly-image/
LOCATION:Wa
END:VEVENT
BEGIN:VEVENT
DTSTART;TZID=Australia/Perth:20240922T090000
DTEND;TZID=Australia/Perth:20240922T110000
DTSTAMP:20260423T151803
CREATED:20240910T085341Z
LAST-MODIFIED:20240910T085341Z
UID:10710-1726995600-1727002800@rockinghamphotographyclub.com
SUMMARY:Wildflower Walk Sep 2024
DESCRIPTION:Come join the club on a relaxing walk around the Wildflower Reserve in Kwinana
URL:https://rockinghamphotographyclub.com/event/wildflower-walk-sep-2024/
LOCATION:Wildflow Reserve\, Nottingham Pkwy\, Orelia\, WA\, 6167\, Australia
ORGANIZER;CN="Daniel Messom":MAILTO:president@rockinghamphotographyclub.com
END:VEVENT
BEGIN:VEVENT
DTSTART;VALUE=DATE:20240913
DTEND;VALUE=DATE:20240916
DTSTAMP:20260423T151803
CREATED:20240106T102139Z
LAST-MODIFIED:20240106T102514Z
UID:9936-1726185600-1726444799@rockinghamphotographyclub.com
SUMMARY:PhotoWest 2024
DESCRIPTION:The Melville Club is hosting PhotoWest this year.
URL:https://rockinghamphotographyclub.com/event/photowest-2024/
LOCATION:Wa
CATEGORIES:Event
ATTACH;FMTTYPE=image/png:https://rockinghamphotographyclub.com/wp-content/uploads/2024/01/PhotWest-2024-v1.png
END:VEVENT
BEGIN:VEVENT
DTSTART;TZID=Australia/Perth:20240910T190000
DTEND;TZID=Australia/Perth:20240910T210000
DTSTAMP:20260423T151803
CREATED:20240514T101306Z
LAST-MODIFIED:20240514T101306Z
UID:10457-1725994800-1726002000@rockinghamphotographyclub.com
SUMMARY:September Club Meeting
DESCRIPTION:The Rockingham Photography Club meet on the second Tuesday of the month.
URL:https://rockinghamphotographyclub.com/event/september-2024-club-meeting/
LOCATION:Warnbro Community & Family Centre\, 1 Moreton Cres\, Warnbro\, WA\, 6169\, Australia
CATEGORIES:Club Meeting
ATTACH;FMTTYPE=image/png:https://rockinghamphotographyclub.com/wp-content/uploads/2024/01/Club-Meeting-Warnbro-Family-Centre.png
ORGANIZER;CN="RPC Secretary":MAILTO:secretary@rockinghamphotographyclub.com
END:VEVENT
BEGIN:VEVENT
DTSTART;VALUE=DATE:20240903
DTEND;VALUE=DATE:20240904
DTSTAMP:20260423T151803
CREATED:20240126T041945Z
LAST-MODIFIED:20240126T041959Z
UID:10023-1725321600-1725407999@rockinghamphotographyclub.com
SUMMARY:September 2024 Monthly Image
DESCRIPTION:Theme: Black & White
URL:https://rockinghamphotographyclub.com/event/september-2024-monthly-image/
LOCATION:Wa
END:VEVENT
BEGIN:VEVENT
DTSTART;TZID=Australia/Perth:20240818T090000
DTEND;TZID=Australia/Perth:20240818T130000
DTSTAMP:20260423T151803
CREATED:20240714T095729Z
LAST-MODIFIED:20240806T041921Z
UID:10602-1723971600-1723986000@rockinghamphotographyclub.com
SUMMARY:Lightroom Training
DESCRIPTION:The RPC is hosting Lightroom training at the Warnbro Community & Family Centre. \nPlease direct deposit the $25 to the RPC Bank Account: \nBSB: 633 – 000\nAccount: 144423225\nBendigo Bank
URL:https://rockinghamphotographyclub.com/event/lightroom-training/
LOCATION:Warnbro Community & Family Centre\, 1 Moreton Cres\, Warnbro\, WA\, 6169\, Australia
CATEGORIES:Traning
END:VEVENT
BEGIN:VEVENT
DTSTART;TZID=Australia/Perth:20240813T190000
DTEND;TZID=Australia/Perth:20240813T210000
DTSTAMP:20260423T151803
CREATED:20240514T101156Z
LAST-MODIFIED:20240514T101215Z
UID:10455-1723575600-1723582800@rockinghamphotographyclub.com
SUMMARY:August Club Meeting
DESCRIPTION:The Rockingham Photography Club meet on the second Tuesday of the month.
URL:https://rockinghamphotographyclub.com/event/august-2024-club-meetin/
LOCATION:Warnbro Community & Family Centre\, 1 Moreton Cres\, Warnbro\, WA\, 6169\, Australia
CATEGORIES:Club Meeting
ATTACH;FMTTYPE=image/png:https://rockinghamphotographyclub.com/wp-content/uploads/2024/01/Club-Meeting-Warnbro-Family-Centre.png
ORGANIZER;CN="RPC Secretary":MAILTO:secretary@rockinghamphotographyclub.com
END:VEVENT
BEGIN:VEVENT
DTSTART;VALUE=DATE:20240806
DTEND;VALUE=DATE:20240807
DTSTAMP:20260423T151803
CREATED:20240126T041921Z
LAST-MODIFIED:20240126T042153Z
UID:10021-1722902400-1722988799@rockinghamphotographyclub.com
SUMMARY:August 2024 Monthly Image
DESCRIPTION:Theme: Animal
URL:https://rockinghamphotographyclub.com/event/august-2024-monthly-image/
LOCATION:Wa
END:VEVENT
BEGIN:VEVENT
DTSTART;TZID=Australia/Perth:20240804T110000
DTEND;TZID=Australia/Perth:20240804T140000
DTSTAMP:20260423T151803
CREATED:20240801T150907Z
LAST-MODIFIED:20240801T150907Z
UID:10615-1722769200-1722780000@rockinghamphotographyclub.com
SUMMARY:Perth Zoo Visit
DESCRIPTION:Come with the Rockingham Photography Club to the Perth Zoo.
URL:https://rockinghamphotographyclub.com/event/perth-zoo-visit/
LOCATION:Perth Zoo\, Perth Zoo\, Perth\, WA\, Australia
CATEGORIES:Event
ORGANIZER;CN="Iain Riley":MAILTO:iain.riley.rpc@gmail.com
END:VEVENT
BEGIN:VEVENT
DTSTART;TZID=Australia/Perth:20240709T190000
DTEND;TZID=Australia/Perth:20240709T210000
DTSTAMP:20260423T151803
CREATED:20240514T101029Z
LAST-MODIFIED:20240514T101048Z
UID:10453-1720551600-1720558800@rockinghamphotographyclub.com
SUMMARY:July Club Meeting
DESCRIPTION:The Rockingham Photography Club meet on the second Tuesday of the month.
URL:https://rockinghamphotographyclub.com/event/july-2024-club-meeting/
LOCATION:Warnbro Community & Family Centre\, 1 Moreton Cres\, Warnbro\, WA\, 6169\, Australia
CATEGORIES:Club Meeting
ATTACH;FMTTYPE=image/png:https://rockinghamphotographyclub.com/wp-content/uploads/2024/01/Club-Meeting-Warnbro-Family-Centre.png
ORGANIZER;CN="RPC Secretary":MAILTO:secretary@rockinghamphotographyclub.com
END:VEVENT
BEGIN:VEVENT
DTSTART;VALUE=DATE:20240702
DTEND;VALUE=DATE:20240703
DTSTAMP:20260423T151803
CREATED:20240126T041904Z
LAST-MODIFIED:20240126T041904Z
UID:10019-1719878400-1719964799@rockinghamphotographyclub.com
SUMMARY:July 2024 Monthly Image
DESCRIPTION:Theme: Abstract
URL:https://rockinghamphotographyclub.com/event/july-2024-monthly-image/
LOCATION:Wa
END:VEVENT
BEGIN:VEVENT
DTSTART;TZID=Australia/Perth:20240611T190000
DTEND;TZID=Australia/Perth:20240611T210000
DTSTAMP:20260423T151803
CREATED:20240514T100945Z
LAST-MODIFIED:20240514T100945Z
UID:10451-1718132400-1718139600@rockinghamphotographyclub.com
SUMMARY:June Club Meeting
DESCRIPTION:The Rockingham Photography Club meet on the second Tuesday of the month.
URL:https://rockinghamphotographyclub.com/event/june-2024-club-meeting/
LOCATION:Warnbro Community & Family Centre\, 1 Moreton Cres\, Warnbro\, WA\, 6169\, Australia
ATTACH;FMTTYPE=image/png:https://rockinghamphotographyclub.com/wp-content/uploads/2024/01/Club-Meeting-Warnbro-Family-Centre.png
ORGANIZER;CN="RPC Secretary":MAILTO:secretary@rockinghamphotographyclub.com
END:VEVENT
BEGIN:VEVENT
DTSTART;TZID=Australia/Perth:20240609T110000
DTEND;TZID=Australia/Perth:20240609T160000
DTSTAMP:20260423T151803
CREATED:20240514T100415Z
LAST-MODIFIED:20240514T100415Z
UID:10441-1717930800-1717948800@rockinghamphotographyclub.com
SUMMARY:Perth Zoo Walk 2024
DESCRIPTION:Come visit the Perth Zoo with the Photography Club. \nPhoto topics will be provided on the day.
URL:https://rockinghamphotographyclub.com/event/perth-zoo-walk-2024/
LOCATION:Perth Zoo\, Perth Zoo\, Perth\, WA\, Australia
ORGANIZER;CN="Iain Riley":MAILTO:iain.riley.rpc@gmail.com
END:VEVENT
BEGIN:VEVENT
DTSTART;VALUE=DATE:20240604
DTEND;VALUE=DATE:20240605
DTSTAMP:20260423T151803
CREATED:20240126T041838Z
LAST-MODIFIED:20240126T041838Z
UID:10017-1717459200-1717545599@rockinghamphotographyclub.com
SUMMARY:June 2024 Monthly Image
DESCRIPTION:Theme: Food
URL:https://rockinghamphotographyclub.com/event/june-2024-monthly-image/
LOCATION:Wa
END:VEVENT
BEGIN:VEVENT
DTSTART;TZID=Australia/Perth:20240514T190000
DTEND;TZID=Australia/Perth:20240514T210000
DTSTAMP:20260423T151803
CREATED:20240514T100848Z
LAST-MODIFIED:20240514T100848Z
UID:10448-1715713200-1715720400@rockinghamphotographyclub.com
SUMMARY:May Club Meeting
DESCRIPTION:The Rockingham Photography Club meet on the second Tuesday of the month.
URL:https://rockinghamphotographyclub.com/event/may-2024-club-meeting/
LOCATION:Warnbro Community & Family Centre\, 1 Moreton Cres\, Warnbro\, WA\, 6169\, Australia
CATEGORIES:Club Meeting
ATTACH;FMTTYPE=image/png:https://rockinghamphotographyclub.com/wp-content/uploads/2024/01/Club-Meeting-Warnbro-Family-Centre.png
ORGANIZER;CN="RPC Secretary":MAILTO:secretary@rockinghamphotographyclub.com
END:VEVENT
BEGIN:VEVENT
DTSTART;VALUE=DATE:20240507
DTEND;VALUE=DATE:20240508
DTSTAMP:20260423T151803
CREATED:20240126T041657Z
LAST-MODIFIED:20240126T042354Z
UID:10013-1715040000-1715126399@rockinghamphotographyclub.com
SUMMARY:May 2024 Monthly Image
DESCRIPTION:Theme: Sports
URL:https://rockinghamphotographyclub.com/event/may-2024-monthly-image/
LOCATION:Wa
END:VEVENT
BEGIN:VEVENT
DTSTART;VALUE=DATE:20240505
DTEND;VALUE=DATE:20240506
DTSTAMP:20260423T151803
CREATED:20240323T092258Z
LAST-MODIFIED:20240323T092823Z
UID:10315-1714867200-1714953599@rockinghamphotographyclub.com
SUMMARY:Moondyne Festival 2024
DESCRIPTION:The Rockingham Photography Club is visiting the Festival for 2024.
URL:https://rockinghamphotographyclub.com/event/moondyne-festival-2024/
LOCATION:Toodyay\, Toodyay\, WA\, Australia
CATEGORIES:Event,Public
ATTACH;FMTTYPE=image/jpeg:https://rockinghamphotographyclub.com/wp-content/uploads/2024/03/Moondyne-Festival-2024.jpg
END:VEVENT
BEGIN:VEVENT
DTSTART;TZID=Australia/Perth:20240423T190000
DTEND;TZID=Australia/Perth:20240423T200000
DTSTAMP:20260423T151803
CREATED:20240316T152441Z
LAST-MODIFIED:20240319T012655Z
UID:10270-1713898800-1713902400@rockinghamphotographyclub.com
SUMMARY:Annual General Meeting
DESCRIPTION:The Rockingham Photography Club AGM will be held on the 23th April.
URL:https://rockinghamphotographyclub.com/event/annual-general-meeting/
LOCATION:Warnbro Community & Family Centre\, 1 Moreton Cres\, Warnbro\, WA\, 6169\, Australia
CATEGORIES:Club Meeting
ORGANIZER;CN="RPC Secretary":MAILTO:secretary@rockinghamphotographyclub.com
END:VEVENT
BEGIN:VEVENT
DTSTART;TZID=Australia/Perth:20240414T090000
DTEND;TZID=Australia/Perth:20240414T120000
DTSTAMP:20260423T151803
CREATED:20240304T113552Z
LAST-MODIFIED:20240316T151056Z
UID:10213-1713085200-1713096000@rockinghamphotographyclub.com
SUMMARY:City Photo Challenge
DESCRIPTION:The walk will start outside Elizabeth Quay Train station at around 9.05 AM to fit in with the arrival of the 8.29 AM train from Rockingham.\nWe will cross the walkway to Brookfield Place courtyard\, meeting photographers who come by other means.\nParticipants will get a Challenge Card with 5 topics to try to capture.\nWe will meet again under the Eggbeater at Elizabeth Quay\, at 12MD and go for a coffee or lunch and chat.
URL:https://rockinghamphotographyclub.com/event/perth-city-walk/
LOCATION:Brookfield Place\, Brookfield Place\, Perth\, WA\, 6000\, Australia
CATEGORIES:Event
ATTACH;FMTTYPE=image/png:https://rockinghamphotographyclub.com/wp-content/uploads/2024/03/city-photowalk-challenge.png
ORGANIZER;CN="Carol Zaugg":MAILTO:zaugg@iinet.net.au
END:VEVENT
BEGIN:VEVENT
DTSTART;TZID=Australia/Perth:20240409T190000
DTEND;TZID=Australia/Perth:20240409T210000
DTSTAMP:20260423T151803
CREATED:20240106T074351Z
LAST-MODIFIED:20240316T145042Z
UID:9925-1712689200-1712696400@rockinghamphotographyclub.com
SUMMARY:April 2024 Club Meeting
DESCRIPTION:The Rockingham Photography Club meet on the second Tuesday of the month.
URL:https://rockinghamphotographyclub.com/event/april-2024-club-meeting/
LOCATION:Warnbro Community & Family Centre\, 1 Moreton Cres\, Warnbro\, WA\, 6169\, Australia
CATEGORIES:Club Meeting
ATTACH;FMTTYPE=image/png:https://rockinghamphotographyclub.com/wp-content/uploads/2024/01/Club-Meeting-Warnbro-Family-Centre.png
ORGANIZER;CN="RPC Secretary":MAILTO:secretary@rockinghamphotographyclub.com
END:VEVENT
BEGIN:VEVENT
DTSTART;VALUE=DATE:20240402
DTEND;VALUE=DATE:20240403
DTSTAMP:20260423T151803
CREATED:20240106T102356Z
LAST-MODIFIED:20240126T041624Z
UID:9942-1712016000-1712102399@rockinghamphotographyclub.com
SUMMARY:April 2024 Monthly Image
DESCRIPTION:Theme: Colours \nOptional Print – Theme only
URL:https://rockinghamphotographyclub.com/event/april-2024-monthly-image/
LOCATION:Wa
END:VEVENT
BEGIN:VEVENT
DTSTART;TZID=Australia/Perth:20240312T190000
DTEND;TZID=Australia/Perth:20240312T210000
DTSTAMP:20260423T151803
CREATED:20240106T074157Z
LAST-MODIFIED:20240120T102521Z
UID:9923-1710270000-1710277200@rockinghamphotographyclub.com
SUMMARY:March 2024 Club Meeting
DESCRIPTION:The Rockingham Photography Club meet on the second Tuesday of the month.
URL:https://rockinghamphotographyclub.com/event/march-2024-club-meeting/
LOCATION:Warnbro Community & Family Centre\, 1 Moreton Cres\, Warnbro\, WA\, 6169\, Australia
CATEGORIES:Club Meeting
ATTACH;FMTTYPE=image/png:https://rockinghamphotographyclub.com/wp-content/uploads/2024/01/Club-Meeting-Warnbro-Family-Centre.png
ORGANIZER;CN="RPC Secretary":MAILTO:secretary@rockinghamphotographyclub.com
END:VEVENT
BEGIN:VEVENT
DTSTART;VALUE=DATE:20240305
DTEND;VALUE=DATE:20240306
DTSTAMP:20260423T151803
CREATED:20240106T102251Z
LAST-MODIFIED:20240106T102251Z
UID:9940-1709596800-1709683199@rockinghamphotographyclub.com
SUMMARY:March 2024 Monthly Image
DESCRIPTION:Theme: Women’s history Month
URL:https://rockinghamphotographyclub.com/event/march-2024-monthly-image/
LOCATION:Wa
END:VEVENT
BEGIN:VEVENT
DTSTART;TZID=Australia/Perth:20240225T173000
DTEND;TZID=Australia/Perth:20240225T200000
DTSTAMP:20260423T151803
CREATED:20240205T112552Z
LAST-MODIFIED:20240225T044352Z
UID:10036-1708882200-1708891200@rockinghamphotographyclub.com
SUMMARY:Sunset Photoshoot
DESCRIPTION:Join the club for a BBQ and Sunset photoshoot. \nThe event is open to all past\, current and future members of the club.
URL:https://rockinghamphotographyclub.com/event/sunset-photoshoot/
LOCATION:BBQ Area\, MPQM+97 Safety Bay\, Western Australia
CATEGORIES:Event,Public
END:VEVENT
BEGIN:VEVENT
DTSTART;TZID=Australia/Perth:20240213T190000
DTEND;TZID=Australia/Perth:20240213T210000
DTSTAMP:20260423T151803
CREATED:20240106T074020Z
LAST-MODIFIED:20240205T113056Z
UID:9921-1707850800-1707858000@rockinghamphotographyclub.com
SUMMARY:February 2024 Club Meeting
DESCRIPTION:The Rockingham Photography Club meet on the second Tuesday of February each year.
URL:https://rockinghamphotographyclub.com/event/february-2024-club-meeting/
LOCATION:Warnbro Community & Family Centre\, 1 Moreton Cres\, Warnbro\, WA\, 6169\, Australia
CATEGORIES:Club Meeting
ATTACH;FMTTYPE=image/png:https://rockinghamphotographyclub.com/wp-content/uploads/2024/01/Club-Meeting-Warnbro-Family-Centre.png
ORGANIZER;CN="RPC Secretary":MAILTO:secretary@rockinghamphotographyclub.com
END:VEVENT
END:VCALENDAR