BEGIN:VCALENDAR
VERSION:2.0
PRODID:-//Rockingham Photography Club Inc. - ECPv6.15.20//NONSGML v1.0//EN
CALSCALE:GREGORIAN
METHOD:PUBLISH
X-WR-CALNAME:Rockingham Photography Club Inc.
X-ORIGINAL-URL:https://rockinghamphotographyclub.com
X-WR-CALDESC:Events for Rockingham Photography Club Inc.
REFRESH-INTERVAL;VALUE=DURATION:PT1H
X-Robots-Tag:noindex
X-PUBLISHED-TTL:PT1H
BEGIN:VTIMEZONE
TZID:Australia/Perth
BEGIN:STANDARD
TZOFFSETFROM:+0800
TZOFFSETTO:+0800
TZNAME:AWST
DTSTART:20230101T000000
END:STANDARD
END:VTIMEZONE
BEGIN:VEVENT
DTSTART;TZID=Australia/Perth:20240116T190000
DTEND;TZID=Australia/Perth:20240116T210000
DTSTAMP:20260424T065540
CREATED:20240106T072718Z
LAST-MODIFIED:20240106T101434Z
UID:9905-1705431600-1705438800@rockinghamphotographyclub.com
SUMMARY:January 2024 Club Meeting
DESCRIPTION:The Rockingham Photography Club meet on the third Tuesday of January each year.
URL:https://rockinghamphotographyclub.com/event/january-2024-club-meeting/
LOCATION:CWA Hall Shoalwater\, 12 Watts Rd\, Showalwater\, WA\, 6169\, Australia
CATEGORIES:Club Meeting
ATTACH;FMTTYPE=image/png:https://rockinghamphotographyclub.com/wp-content/uploads/2024/01/Monthly-Meeting-January.png
ORGANIZER;CN="RPC Secretary":MAILTO:secretary@rockinghamphotographyclub.com
END:VEVENT
BEGIN:VEVENT
DTSTART;TZID=Australia/Perth:20240109T100000
DTEND;TZID=Australia/Perth:20240109T160000
DTSTAMP:20260424T065540
CREATED:20240108T110547Z
LAST-MODIFIED:20240108T110848Z
UID:9947-1704794400-1704816000@rockinghamphotographyclub.com
SUMMARY:Test Booking
DESCRIPTION:Test of booking form
URL:https://rockinghamphotographyclub.com/event/test-booking/
LOCATION:CWA Hall Shoalwater\, 12 Watts Rd\, Showalwater\, WA\, 6169\, Australia
END:VEVENT
BEGIN:VEVENT
DTSTART;VALUE=DATE:20240109
DTEND;VALUE=DATE:20240110
DTSTAMP:20260424T065540
CREATED:20240106T094332Z
LAST-MODIFIED:20240106T094523Z
UID:9927-1704758400-1704844799@rockinghamphotographyclub.com
SUMMARY:January 2024 Monthly Images
DESCRIPTION:Theme: New Beginings
URL:https://rockinghamphotographyclub.com/event/january-2024-monthly-images/
LOCATION:WA
END:VEVENT
BEGIN:VEVENT
DTSTART;TZID=Australia/Perth:20240108T213000
DTEND;TZID=Australia/Perth:20240108T220000
DTSTAMP:20260424T065540
CREATED:20240108T110254Z
LAST-MODIFIED:20240108T110254Z
UID:9944-1704749400-1704751200@rockinghamphotographyclub.com
SUMMARY:Test Event - RSVP
DESCRIPTION:Testing event
URL:https://rockinghamphotographyclub.com/event/test-event-rsvp/
LOCATION:WA
END:VEVENT
END:VCALENDAR