BEGIN:VCALENDAR
VERSION:2.0
PRODID:-//Rockingham Photography Club Inc. - ECPv6.15.20//NONSGML v1.0//EN
CALSCALE:GREGORIAN
METHOD:PUBLISH
X-ORIGINAL-URL:https://rockinghamphotographyclub.com
X-WR-CALDESC:Events for Rockingham Photography Club Inc.
REFRESH-INTERVAL;VALUE=DURATION:PT1H
X-Robots-Tag:noindex
X-PUBLISHED-TTL:PT1H
BEGIN:VTIMEZONE
TZID:Australia/Perth
BEGIN:STANDARD
TZOFFSETFROM:+0800
TZOFFSETTO:+0800
TZNAME:AWST
DTSTART:20250101T000000
END:STANDARD
END:VTIMEZONE
BEGIN:VEVENT
DTSTART;VALUE=DATE:20260113
DTEND;VALUE=DATE:20260114
DTSTAMP:20260423T134014
CREATED:20260112T123627Z
LAST-MODIFIED:20260112T123627Z
UID:13088-1768262400-1768348799@rockinghamphotographyclub.com
SUMMARY:January 2026 Monthly Image
DESCRIPTION:January:My Go-To Lens\nThis month\, we challenge you to simplify your gear and focus on your vision. Choose one specific lens (e.g.\, a 50mm prime or your standard kit lens set to a single focal length) and use it exclusively for your entries.
URL:https://rockinghamphotographyclub.com/event/january-2026-monthly-image/
CATEGORIES:Monthly Image
END:VEVENT
BEGIN:VEVENT
DTSTART;TZID=Australia/Perth:20260120T190000
DTEND;TZID=Australia/Perth:20260120T210000
DTSTAMP:20260423T134014
CREATED:20260112T123500Z
LAST-MODIFIED:20260112T123500Z
UID:13086-1768935600-1768942800@rockinghamphotographyclub.com
SUMMARY:January 2026 Club Meeting
DESCRIPTION:The Rockingham Photography Club meets on the third Tuesday of January.
URL:https://rockinghamphotographyclub.com/event/january-2026-club-meeting/
LOCATION:Warnbro Community & Family Centre\, 1 Moreton Cres\, Warnbro\, WA\, 6169\, Australia
CATEGORIES:Club Meeting
ATTACH;FMTTYPE=image/jpeg:https://rockinghamphotographyclub.com/wp-content/uploads/2024/12/RPC-Meeting-Sticky-Note-January-e1735463886202.jpg
END:VEVENT
BEGIN:VEVENT
DTSTART;TZID=Australia/Perth:20260124T170000
DTEND;TZID=Australia/Perth:20260124T190000
DTSTAMP:20260423T134014
CREATED:20260112T123214Z
LAST-MODIFIED:20260112T123214Z
UID:13083-1769274000-1769281200@rockinghamphotographyclub.com
SUMMARY:Welcome to 2026 BBQ
DESCRIPTION:New Year\, same great club! \nLet’s get together for a BBQ to celebrate the start of the year. 🍔 \nMake sure your pockets are heavy with loose change because you won’t want to miss out on the raffle! \n 
URL:https://rockinghamphotographyclub.com/event/welcome-to-2026-bbq/
LOCATION:Governor Rd Reserve\, PPQW+MV East Rockingham\, Western Australia
CATEGORIES:Event,Public
ATTACH;FMTTYPE=image/gif:https://rockinghamphotographyclub.com/wp-content/uploads/2021/12/Bbq-clipart-border-free-clipart-images.gif
ORGANIZER;CN="Iain Riley":MAILTO:iain.riley.rpc@gmail.com
END:VEVENT
BEGIN:VEVENT
DTSTART;TZID=Australia/Perth:20260128T190000
DTEND;TZID=Australia/Perth:20260128T200000
DTSTAMP:20260423T134014
CREATED:20260112T123827Z
LAST-MODIFIED:20260127T113304Z
UID:13090-1769626800-1769630400@rockinghamphotographyclub.com
SUMMARY:It's The Light Online Training
DESCRIPTION:February:It’s The Light\nFor this theme\, the subject matter is secondary to the lighting. We are looking for images where the quality\, direction\, or colour of the light is the defining feature. This could include the golden glow of sunrise\, the harsh shadows of midday\, or soft window light. \nJoin Sharon online for tips and suggestions on the theme.
URL:https://rockinghamphotographyclub.com/event/its-the-light-online-training/
LOCATION:Online
CATEGORIES:Traning
ATTACH;FMTTYPE=image/jpeg:https://rockinghamphotographyclub.com/wp-content/uploads/2019/03/contact-us-background.jpg
END:VEVENT
BEGIN:VEVENT
DTSTART;TZID=Australia/Perth:20260131T184500
DTEND;TZID=Australia/Perth:20260131T200000
DTSTAMP:20260423T134014
CREATED:20260124T023344Z
LAST-MODIFIED:20260124T023344Z
UID:13099-1769885100-1769889600@rockinghamphotographyclub.com
SUMMARY:It's the Light - Event
DESCRIPTION:Join us for an immersive evening at Kings Park as we explore the fundamental element of photography: light. \nThis isn’t just a photo walk; it’s a deep dive into understanding how the quality\, direction\, and colour of light can transform a simple landscape into a masterpiece. From the golden hour to the “blue hour\,” we will observe and capture the dramatic transition of the Western Australian sky. \nEvent Details:\n\n\nLocation: Kings Park – Meeting at the War Memorial. \n\n\nTiming: 6:45pm. \n\n\nSkill Level: All levels are welcome\, though a basic understanding of your camera’s manual settings is recommended. \n\n\nWhether you’re looking to sharpen your technical skills or find fresh creative inspiration\, this shoot will change the way you “see” light forever. \nBring your tripod\, your favourite lenses\, and your curiosity!
URL:https://rockinghamphotographyclub.com/event/its-the-light-event/
LOCATION:King’s Park\, 2RQV+MV Kings Park\, Western Australia
CATEGORIES:Event,Traning
ATTACH;FMTTYPE=image/jpeg:https://rockinghamphotographyclub.com/wp-content/uploads/2019/03/background-6.jpg
ORGANIZER;CN="Daniel Messom":MAILTO:president@rockinghamphotographyclub.com
END:VEVENT
END:VCALENDAR