BEGIN:VCALENDAR
VERSION:2.0
PRODID:-//Rockingham Photography Club Inc. - ECPv6.15.20//NONSGML v1.0//EN
CALSCALE:GREGORIAN
METHOD:PUBLISH
X-WR-CALNAME:Rockingham Photography Club Inc.
X-ORIGINAL-URL:https://rockinghamphotographyclub.com
X-WR-CALDESC:Events for Rockingham Photography Club Inc.
REFRESH-INTERVAL;VALUE=DURATION:PT1H
X-Robots-Tag:noindex
X-PUBLISHED-TTL:PT1H
BEGIN:VTIMEZONE
TZID:Australia/Perth
BEGIN:STANDARD
TZOFFSETFROM:+0800
TZOFFSETTO:+0800
TZNAME:AWST
DTSTART:20250101T000000
END:STANDARD
END:VTIMEZONE
BEGIN:VEVENT
DTSTART;TZID=Australia/Perth:20260210T190000
DTEND;TZID=Australia/Perth:20260210T210000
DTSTAMP:20260423T122340
CREATED:20260210T101235Z
LAST-MODIFIED:20260210T101426Z
UID:13130-1770750000-1770757200@rockinghamphotographyclub.com
SUMMARY:February 2026 Club Meeting
DESCRIPTION:The Rockingham Photography Club meet on the second Tuesday of the month.
URL:https://rockinghamphotographyclub.com/event/february-2026-club-meeting/
LOCATION:Warnbro Community & Family Centre\, 1 Moreton Cres\, Warnbro\, WA\, 6169\, Australia
CATEGORIES:Club Meeting
ATTACH;FMTTYPE=image/png:https://rockinghamphotographyclub.com/wp-content/uploads/2024/01/Club-Meeting-Warnbro-Family-Centre.png
ORGANIZER;CN="RPC Secretary":MAILTO:secretary@rockinghamphotographyclub.com
END:VEVENT
BEGIN:VEVENT
DTSTART;TZID=Australia/Perth:20260217T190000
DTEND;TZID=Australia/Perth:20260217T200000
DTSTAMP:20260423T122340
CREATED:20260210T101741Z
LAST-MODIFIED:20260210T101907Z
UID:13134-1771354800-1771358400@rockinghamphotographyclub.com
SUMMARY:Framing - Windows and Doors - Online Training
DESCRIPTION: 
URL:https://rockinghamphotographyclub.com/event/framing-windows-and-doors-online-training/
LOCATION:Online
CATEGORIES:Traning
ATTACH;FMTTYPE=image/png:https://rockinghamphotographyclub.com/wp-content/uploads/2026/02/Framing-Windows-and-Doors-scaled.png
END:VEVENT
END:VCALENDAR