BEGIN:VCALENDAR
VERSION:2.0
PRODID:-//Rockingham Photography Club Inc. - ECPv6.15.20//NONSGML v1.0//EN
CALSCALE:GREGORIAN
METHOD:PUBLISH
X-WR-CALNAME:Rockingham Photography Club Inc.
X-ORIGINAL-URL:https://rockinghamphotographyclub.com
X-WR-CALDESC:Events for Rockingham Photography Club Inc.
REFRESH-INTERVAL;VALUE=DURATION:PT1H
X-Robots-Tag:noindex
X-PUBLISHED-TTL:PT1H
BEGIN:VTIMEZONE
TZID:Australia/Perth
BEGIN:STANDARD
TZOFFSETFROM:+0800
TZOFFSETTO:+0800
TZNAME:AWST
DTSTART:20240101T000000
END:STANDARD
END:VTIMEZONE
BEGIN:VEVENT
DTSTART;TZID=Australia/Perth:20250112T110000
DTEND;TZID=Australia/Perth:20250112T150000
DTSTAMP:20260424T103432
CREATED:20241229T080020Z
LAST-MODIFIED:20241231T054712Z
UID:11068-1736679600-1736694000@rockinghamphotographyclub.com
SUMMARY:Jandakot Airport Visit - Flight Theme - January 2025
DESCRIPTION:Come and join the Rockingham Photography Club at Jandakot Airport. \nThings to bring: \n\nYour camera\nLong lenses for photographing planes on the runway or air\nSpare Batteries\nSpare Memory Cards\n\nWe will meet outside of the Royal Aero Club building\, before moving up to the roof to shoot images. \nThere is an onsite café open while we’ll be there.
URL:https://rockinghamphotographyclub.com/event/jandakot-airport-visit-flight-theme-january-2025/
LOCATION:Jandakot Airport\, 41 Eagle Dr\, Jandakot\, WA\, 6164\, Australia
CATEGORIES:Event
ATTACH;FMTTYPE=image/jpeg:https://rockinghamphotographyclub.com/wp-content/uploads/2024/12/Jandakor-Airport.jpg
END:VEVENT
BEGIN:VEVENT
DTSTART;VALUE=DATE:20250114
DTEND;VALUE=DATE:20250115
DTSTAMP:20260424T103432
CREATED:20241229T090725Z
LAST-MODIFIED:20241229T090725Z
UID:11077-1736812800-1736899199@rockinghamphotographyclub.com
SUMMARY:January 2025 Monthly Image
DESCRIPTION:Theme – Flight
URL:https://rockinghamphotographyclub.com/event/january-2025-monthly-image/
CATEGORIES:Monthly Image
END:VEVENT
END:VCALENDAR